BEGIN:VCALENDAR
VERSION:2.0
PRODID:-//hacksw/handcal//NONSGML v1.0//EN
BEGIN:VEVENT
SUMMARY:matchs du week-end
UID:bbd53b7e-2393-4299-a053-e52bfe485aec
DTSTART:20260419T083000Z
DTEND:20260419T101500Z
LOCATION:Localisation   
CATEGORIES:Sportif
STATUS:
URL;VALUE=URI:https://www.lmfc.fr/evenements/2026/04/19/matchs-du-week-end-2441008
END:VEVENT
END:VCALENDAR
