BEGIN:VCALENDAR
VERSION:2.0
PRODID:-//hacksw/handcal//NONSGML v1.0//EN
BEGIN:VEVENT
SUMMARY:matchs du week-end
UID:28196f8b-52e9-414a-88da-d8e9e4574578
DTSTART:20260426T083000Z
DTEND:20260426T101500Z
LOCATION:Localisation   
CATEGORIES:Sportif
STATUS:
URL;VALUE=URI:https://www.lmfc.fr/evenements/2026/04/26/matchs-du-week-end-2443028
END:VEVENT
END:VCALENDAR
